BEGIN:VCALENDAR
VERSION:2.0
PRODID:-//South Muskoka Curling &amp; Golf Club - ECPv6.15.20//NONSGML v1.0//EN
CALSCALE:GREGORIAN
METHOD:PUBLISH
X-WR-CALNAME:South Muskoka Curling &amp; Golf Club
X-ORIGINAL-URL:https://www.southmuskoka.com
X-WR-CALDESC:Events for South Muskoka Curling &amp; Golf Club
REFRESH-INTERVAL;VALUE=DURATION:PT1H
X-Robots-Tag:noindex
X-PUBLISHED-TTL:PT1H
BEGIN:VTIMEZONE
TZID:UTC
BEGIN:STANDARD
TZOFFSETFROM:+0000
TZOFFSETTO:+0000
TZNAME:UTC
DTSTART:20250101T000000
END:STANDARD
END:VTIMEZONE
BEGIN:VEVENT
DTSTART;VALUE=DATE:20260603
DTEND;VALUE=DATE:20260604
DTSTAMP:20260420T171031
CREATED:20260320T172508Z
LAST-MODIFIED:20260320T182659Z
UID:10000428-1780444800-1780531199@www.southmuskoka.com
SUMMARY:CALLAWAY DEMO DAY
DESCRIPTION:
URL:https://www.southmuskoka.com/event/callaway-demo-day-4/
END:VEVENT
BEGIN:VEVENT
DTSTART;VALUE=DATE:20260605
DTEND;VALUE=DATE:20260606
DTSTAMP:20260420T171031
CREATED:20260320T172509Z
LAST-MODIFIED:20260320T182719Z
UID:10000429-1780617600-1780703999@www.southmuskoka.com
SUMMARY:BETTER BALL CLASSIC DAY 1
DESCRIPTION:
URL:https://www.southmuskoka.com/event/better-ball-classic-day-1/
END:VEVENT
BEGIN:VEVENT
DTSTART;VALUE=DATE:20260606
DTEND;VALUE=DATE:20260607
DTSTAMP:20260420T171031
CREATED:20260320T172509Z
LAST-MODIFIED:20260320T182930Z
UID:10000430-1780704000-1780790399@www.southmuskoka.com
SUMMARY:BETTER BALL CLASSIC DAY 2
DESCRIPTION:
URL:https://www.southmuskoka.com/event/better-ball-classic-day-2/
END:VEVENT
BEGIN:VEVENT
DTSTART;TZID=UTC:20260611T130000
DTEND;TZID=UTC:20260611T190000
DTSTAMP:20260420T171031
CREATED:20260320T185559Z
LAST-MODIFIED:20260320T185859Z
UID:10000470-1781182800-1781204400@www.southmuskoka.com
SUMMARY:PRIVATE EVENT | SHOTGUN
DESCRIPTION:1PM Shotgun
URL:https://www.southmuskoka.com/event/outside-tournament/
END:VEVENT
BEGIN:VEVENT
DTSTART;TZID=UTC:20260618T130000
DTEND;TZID=UTC:20260618T190000
DTSTAMP:20260420T171031
CREATED:20260320T191034Z
LAST-MODIFIED:20260320T191034Z
UID:10000477-1781787600-1781809200@www.southmuskoka.com
SUMMARY:PRIVATE EVENT | SHOTGUN
DESCRIPTION:
URL:https://www.southmuskoka.com/event/private-event-shotgun-4/
END:VEVENT
BEGIN:VEVENT
DTSTART;TZID=UTC:20260620T130000
DTEND;TZID=UTC:20260620T190000
DTSTAMP:20260420T171031
CREATED:20260320T172509Z
LAST-MODIFIED:20260320T172509Z
UID:10000431-1781960400-1781982000@www.southmuskoka.com
SUMMARY:PORKY & ROCKETS
DESCRIPTION:
URL:https://www.southmuskoka.com/event/porky-rockets/
END:VEVENT
BEGIN:VEVENT
DTSTART;VALUE=DATE:20260621
DTEND;VALUE=DATE:20260622
DTSTAMP:20260420T171031
CREATED:20260320T172509Z
LAST-MODIFIED:20260320T182907Z
UID:10000432-1782000000-1782086399@www.southmuskoka.com
SUMMARY:FATHERS’ DAY
DESCRIPTION:
URL:https://www.southmuskoka.com/event/fathers-day/
END:VEVENT
BEGIN:VEVENT
DTSTART;VALUE=DATE:20260626
DTEND;VALUE=DATE:20260627
DTSTAMP:20260420T171031
CREATED:20260320T172509Z
LAST-MODIFIED:20260320T182915Z
UID:10000433-1782432000-1782518399@www.southmuskoka.com
SUMMARY:9 & DINE | MEXICAN THEME (PM)
DESCRIPTION:
URL:https://www.southmuskoka.com/event/9-dine-mexican-theme-pm/
END:VEVENT
END:VCALENDAR