BEGIN:VCALENDAR
VERSION:2.0
PRODID:-//South Muskoka Curling &amp; Golf Club - ECPv6.15.20//NONSGML v1.0//EN
CALSCALE:GREGORIAN
METHOD:PUBLISH
X-ORIGINAL-URL:https://www.southmuskoka.com
X-WR-CALDESC:Events for South Muskoka Curling &amp; Golf Club
REFRESH-INTERVAL;VALUE=DURATION:PT1H
X-Robots-Tag:noindex
X-PUBLISHED-TTL:PT1H
BEGIN:VTIMEZONE
TZID:UTC
BEGIN:STANDARD
TZOFFSETFROM:+0000
TZOFFSETTO:+0000
TZNAME:UTC
DTSTART:20250101T000000
END:STANDARD
END:VTIMEZONE
BEGIN:VEVENT
DTSTART;VALUE=DATE:20260727
DTEND;VALUE=DATE:20260728
DTSTAMP:20260420T223801
CREATED:20260320T172658Z
LAST-MODIFIED:20260320T183102Z
UID:10000442-1785110400-1785196799@www.southmuskoka.com
SUMMARY:PEPSI TOUR
DESCRIPTION:
URL:https://www.southmuskoka.com/event/pepsi-tour/
END:VEVENT
BEGIN:VEVENT
DTSTART;VALUE=DATE:20260728
DTEND;VALUE=DATE:20260729
DTSTAMP:20260420T223801
CREATED:20260320T172658Z
LAST-MODIFIED:20260320T183108Z
UID:10000443-1785196800-1785283199@www.southmuskoka.com
SUMMARY:JUNIOR GOLF CAMP DAY 1
DESCRIPTION:
URL:https://www.southmuskoka.com/event/junior-golf-camp-day-1-2/
END:VEVENT
BEGIN:VEVENT
DTSTART;VALUE=DATE:20260729
DTEND;VALUE=DATE:20260730
DTSTAMP:20260420T223801
CREATED:20260320T172857Z
LAST-MODIFIED:20260320T183114Z
UID:10000444-1785283200-1785369599@www.southmuskoka.com
SUMMARY:JUNIOR GOLF CAMP DAY 2
DESCRIPTION:
URL:https://www.southmuskoka.com/event/junior-golf-camp-day-2-2/
END:VEVENT
BEGIN:VEVENT
DTSTART;VALUE=DATE:20260730
DTEND;VALUE=DATE:20260731
DTSTAMP:20260420T223801
CREATED:20260320T172858Z
LAST-MODIFIED:20260320T183121Z
UID:10000445-1785369600-1785455999@www.southmuskoka.com
SUMMARY:JUNIOR GOLF CAMP DAY 3
DESCRIPTION:
URL:https://www.southmuskoka.com/event/junior-golf-camp-day-3-2/
END:VEVENT
END:VCALENDAR