BEGIN:VCALENDAR
VERSION:2.0
PRODID:-//South Muskoka Curling &amp; Golf Club - ECPv6.15.20//NONSGML v1.0//EN
CALSCALE:GREGORIAN
METHOD:PUBLISH
X-ORIGINAL-URL:https://www.southmuskoka.com
X-WR-CALDESC:Events for South Muskoka Curling &amp; Golf Club
REFRESH-INTERVAL;VALUE=DURATION:PT1H
X-Robots-Tag:noindex
X-PUBLISHED-TTL:PT1H
BEGIN:VTIMEZONE
TZID:UTC
BEGIN:STANDARD
TZOFFSETFROM:+0000
TZOFFSETTO:+0000
TZNAME:UTC
DTSTART:20250101T000000
END:STANDARD
END:VTIMEZONE
BEGIN:VEVENT
DTSTART;VALUE=DATE:20260804
DTEND;VALUE=DATE:20260805
DTSTAMP:20260421T035932
CREATED:20260320T172858Z
LAST-MODIFIED:20260320T183127Z
UID:10000446-1785801600-1785887999@www.southmuskoka.com
SUMMARY:JUNIOR GOLF CAMP DAY 1
DESCRIPTION:
URL:https://www.southmuskoka.com/event/junior-golf-camp-day-1-3/
END:VEVENT
BEGIN:VEVENT
DTSTART;VALUE=DATE:20260805
DTEND;VALUE=DATE:20260806
DTSTAMP:20260421T035932
CREATED:20260320T172858Z
LAST-MODIFIED:20260320T183134Z
UID:10000447-1785888000-1785974399@www.southmuskoka.com
SUMMARY:JUNIOR GOLF CAMP DAY 2
DESCRIPTION:
URL:https://www.southmuskoka.com/event/junior-golf-camp-day-2-3/
END:VEVENT
BEGIN:VEVENT
DTSTART;VALUE=DATE:20260806
DTEND;VALUE=DATE:20260807
DTSTAMP:20260421T035932
CREATED:20260320T172858Z
LAST-MODIFIED:20260320T183142Z
UID:10000448-1785974400-1786060799@www.southmuskoka.com
SUMMARY:JUNIOR GOLF CAMP DAY 3
DESCRIPTION:
URL:https://www.southmuskoka.com/event/junior-golf-camp-day-3-3/
END:VEVENT
BEGIN:VEVENT
DTSTART;VALUE=DATE:20260807
DTEND;VALUE=DATE:20260808
DTSTAMP:20260421T035932
CREATED:20260320T173055Z
LAST-MODIFIED:20260320T183148Z
UID:10000449-1786060800-1786147199@www.southmuskoka.com
SUMMARY:JUNIOR GOLF CAMP DAY 4
DESCRIPTION:
URL:https://www.southmuskoka.com/event/junior-golf-camp-day-4-2/
END:VEVENT
BEGIN:VEVENT
DTSTART;VALUE=DATE:20260807
DTEND;VALUE=DATE:20260808
DTSTAMP:20260421T035932
CREATED:20260320T173256Z
LAST-MODIFIED:20260320T185433Z
UID:10000454-1786060800-1786147199@www.southmuskoka.com
SUMMARY:9 & DINE | CASINO THEME (PM)
DESCRIPTION:
URL:https://www.southmuskoka.com/event/9-dine-casino-theme-pm/
END:VEVENT
END:VCALENDAR