BEGIN:VCALENDAR
VERSION:2.0
PRODID:-//South Muskoka Curling &amp; Golf Club - ECPv6.15.20//NONSGML v1.0//EN
CALSCALE:GREGORIAN
METHOD:PUBLISH
X-WR-CALNAME:South Muskoka Curling &amp; Golf Club
X-ORIGINAL-URL:https://www.southmuskoka.com
X-WR-CALDESC:Events for South Muskoka Curling &amp; Golf Club
REFRESH-INTERVAL;VALUE=DURATION:PT1H
X-Robots-Tag:noindex
X-PUBLISHED-TTL:PT1H
BEGIN:VTIMEZONE
TZID:UTC
BEGIN:STANDARD
TZOFFSETFROM:+0000
TZOFFSETTO:+0000
TZNAME:UTC
DTSTART:20250101T000000
END:STANDARD
END:VTIMEZONE
BEGIN:VEVENT
DTSTART;TZID=UTC:20260904T160000
DTEND;TZID=UTC:20260904T190000
DTSTAMP:20260421T174936
CREATED:20260320T173256Z
LAST-MODIFIED:20260320T183339Z
UID:10000458-1788537600-1788548400@www.southmuskoka.com
SUMMARY:JOHN KEHL CLASSIC
DESCRIPTION:
URL:https://www.southmuskoka.com/event/john-kehl-classic-3/
END:VEVENT
END:VCALENDAR