BEGIN:VCALENDAR
VERSION:2.0
PRODID:-//South Muskoka Curling &amp; Golf Club - ECPv6.15.20//NONSGML v1.0//EN
CALSCALE:GREGORIAN
METHOD:PUBLISH
X-WR-CALNAME:South Muskoka Curling &amp; Golf Club
X-ORIGINAL-URL:https://www.southmuskoka.com
X-WR-CALDESC:Events for South Muskoka Curling &amp; Golf Club
REFRESH-INTERVAL;VALUE=DURATION:PT1H
X-Robots-Tag:noindex
X-PUBLISHED-TTL:PT1H
BEGIN:VTIMEZONE
TZID:UTC
BEGIN:STANDARD
TZOFFSETFROM:+0000
TZOFFSETTO:+0000
TZNAME:UTC
DTSTART:20250101T000000
END:STANDARD
END:VTIMEZONE
BEGIN:VEVENT
DTSTART;VALUE=DATE:20260929
DTEND;VALUE=DATE:20260930
DTSTAMP:20260421T020731
CREATED:20260320T173656Z
LAST-MODIFIED:20260320T183430Z
UID:10000464-1790640000-1790726399@www.southmuskoka.com
SUMMARY:FINAL LADIES’ DAY
DESCRIPTION:
URL:https://www.southmuskoka.com/event/final-ladies-day-3/
END:VEVENT
BEGIN:VEVENT
DTSTART;VALUE=DATE:20260930
DTEND;VALUE=DATE:20261001
DTSTAMP:20260421T020731
CREATED:20260320T173656Z
LAST-MODIFIED:20260320T183437Z
UID:10000465-1790726400-1790812799@www.southmuskoka.com
SUMMARY:FINAL MEN’S DAY
DESCRIPTION:
URL:https://www.southmuskoka.com/event/final-mens-day-3/
END:VEVENT
BEGIN:VEVENT
DTSTART;TZID=UTC:20261003T130000
DTEND;TZID=UTC:20261003T190000
DTSTAMP:20260421T020731
CREATED:20260320T173656Z
LAST-MODIFIED:20260320T183443Z
UID:10000466-1791032400-1791054000@www.southmuskoka.com
SUMMARY:FINALE
DESCRIPTION:
URL:https://www.southmuskoka.com/event/finale/
END:VEVENT
END:VCALENDAR