BEGIN:VCALENDAR
VERSION:2.0
PRODID:-//South Muskoka Curling &amp; Golf Club - ECPv6.15.20//NONSGML v1.0//EN
CALSCALE:GREGORIAN
METHOD:PUBLISH
X-WR-CALNAME:South Muskoka Curling &amp; Golf Club
X-ORIGINAL-URL:https://www.southmuskoka.com
X-WR-CALDESC:Events for South Muskoka Curling &amp; Golf Club
REFRESH-INTERVAL;VALUE=DURATION:PT1H
X-Robots-Tag:noindex
X-PUBLISHED-TTL:PT1H
BEGIN:VTIMEZONE
TZID:UTC
BEGIN:STANDARD
TZOFFSETFROM:+0000
TZOFFSETTO:+0000
TZNAME:UTC
DTSTART:20180101T000000
END:STANDARD
END:VTIMEZONE
BEGIN:VEVENT
DTSTART;TZID=UTC:20190521T080000
DTEND;TZID=UTC:20190521T170000
DTSTAMP:20260425T133921
CREATED:20190219T173822Z
LAST-MODIFIED:20190320T162045Z
UID:10000061-1558425600-1558458000@www.southmuskoka.com
SUMMARY:Ladies Night Sponsored by: Lee\, Roche\, & Kerr
DESCRIPTION:The Ladies section has a busy day every Tuesday at South Muskoka. Reserved tee times begin at 1:30pm with some groups playing 18 holes\, but the majority starting a bit later and just playing 9. All players meet together after play for dinner and prizes\, with a variety of on-course contests and prizes. \nOur Ladies section emphasizes fun\, friendship\, good golf\, and socializing\, with something for players of all skill levels. Ladies day is open to the public and members are encouraged to bring friends and colleagues to join in the fun. \nBook your tee time today!
URL:https://www.southmuskoka.com/event/ladies-night-sponsored-by/
LOCATION:10 Golf Course Road\, Bracebridge\, ON\, P1L1M6\, Canada
END:VEVENT
END:VCALENDAR