BEGIN:VCALENDAR
VERSION:2.0
PRODID:-//South Muskoka Curling &amp; Golf Club - ECPv6.15.20//NONSGML v1.0//EN
CALSCALE:GREGORIAN
METHOD:PUBLISH
X-ORIGINAL-URL:https://www.southmuskoka.com
X-WR-CALDESC:Events for South Muskoka Curling &amp; Golf Club
REFRESH-INTERVAL;VALUE=DURATION:PT1H
X-Robots-Tag:noindex
X-PUBLISHED-TTL:PT1H
BEGIN:VTIMEZONE
TZID:UTC
BEGIN:STANDARD
TZOFFSETFROM:+0000
TZOFFSETTO:+0000
TZNAME:UTC
DTSTART:20180101T000000
END:STANDARD
END:VTIMEZONE
BEGIN:VEVENT
DTSTART;TZID=UTC:20190826T160000
DTEND;TZID=UTC:20190826T180000
DTSTAMP:20260424T084212
CREATED:20190320T163036Z
LAST-MODIFIED:20190320T163036Z
UID:10000115-1566835200-1566842400@www.southmuskoka.com
SUMMARY:Junior BBQ Sponsored by: Alex & Jen Nelson
DESCRIPTION:
URL:https://www.southmuskoka.com/event/junior-bbq-sponsored-by-alex-jen-nelson/2019-08-26/
LOCATION:10 Golf Course Road\, Bracebridge\, ON\, P1L1M6\, Canada
END:VEVENT
BEGIN:VEVENT
DTSTART;TZID=UTC:20190722T160000
DTEND;TZID=UTC:20190722T180000
DTSTAMP:20260424T084212
CREATED:20190320T163036Z
LAST-MODIFIED:20190531T214217Z
UID:10000117-1563811200-1563818400@www.southmuskoka.com
SUMMARY:Junior BBQ Sponsored by: Alex & Jen Nelson
DESCRIPTION:
URL:https://www.southmuskoka.com/event/junior-bbq-sponsored-by-alex-jen-nelson-2019-07-29/
LOCATION:10 Golf Course Road\, Bracebridge\, ON\, P1L1M6\, Canada
END:VEVENT
BEGIN:VEVENT
DTSTART;TZID=UTC:20190624T160000
DTEND;TZID=UTC:20190624T180000
DTSTAMP:20260424T084212
CREATED:20190320T163036Z
LAST-MODIFIED:20190320T163036Z
UID:10000114-1561392000-1561399200@www.southmuskoka.com
SUMMARY:Junior BBQ Sponsored by: Alex & Jen Nelson
DESCRIPTION:
URL:https://www.southmuskoka.com/event/junior-bbq-sponsored-by-alex-jen-nelson/2019-06-24/
LOCATION:10 Golf Course Road\, Bracebridge\, ON\, P1L1M6\, Canada
END:VEVENT
END:VCALENDAR