BEGIN:VCALENDAR
VERSION:2.0
PRODID:-//South Muskoka Curling &amp; Golf Club - ECPv6.15.20//NONSGML v1.0//EN
CALSCALE:GREGORIAN
METHOD:PUBLISH
X-WR-CALNAME:South Muskoka Curling &amp; Golf Club
X-ORIGINAL-URL:https://www.southmuskoka.com
X-WR-CALDESC:Events for South Muskoka Curling &amp; Golf Club
REFRESH-INTERVAL;VALUE=DURATION:PT1H
X-Robots-Tag:noindex
X-PUBLISHED-TTL:PT1H
BEGIN:VTIMEZONE
TZID:UTC
BEGIN:STANDARD
TZOFFSETFROM:+0000
TZOFFSETTO:+0000
TZNAME:UTC
DTSTART:20180101T000000
END:STANDARD
END:VTIMEZONE
BEGIN:VEVENT
DTSTART;TZID=UTC:20191221T080000
DTEND;TZID=UTC:20200101T170000
DTSTAMP:20260421T043120
CREATED:20190915T181513Z
LAST-MODIFIED:20190926T205312Z
UID:10000125-1576915200-1577898000@www.southmuskoka.com
SUMMARY:Closed for the Holidays
DESCRIPTION:
URL:https://www.southmuskoka.com/event/closed-for-the-holidays/
LOCATION:10 Golf Course Road\, Bracebridge\, ON\, P1L1M6\, Canada
END:VEVENT
END:VCALENDAR