BEGIN:VCALENDAR
VERSION:2.0
PRODID:-//South Muskoka Curling &amp; Golf Club - ECPv6.15.20//NONSGML v1.0//EN
CALSCALE:GREGORIAN
METHOD:PUBLISH
X-WR-CALNAME:South Muskoka Curling &amp; Golf Club
X-ORIGINAL-URL:https://www.southmuskoka.com
X-WR-CALDESC:Events for South Muskoka Curling &amp; Golf Club
REFRESH-INTERVAL;VALUE=DURATION:PT1H
X-Robots-Tag:noindex
X-PUBLISHED-TTL:PT1H
BEGIN:VTIMEZONE
TZID:UTC
BEGIN:STANDARD
TZOFFSETFROM:+0000
TZOFFSETTO:+0000
TZNAME:UTC
DTSTART:20180101T000000
END:STANDARD
END:VTIMEZONE
BEGIN:VEVENT
DTSTART;TZID=UTC:20200302T110000
DTEND;TZID=UTC:20200302T150000
DTSTAMP:20260420T170911
CREATED:20190926T204610Z
LAST-MODIFIED:20190926T204641Z
UID:10000048-1583146800-1583161200@www.southmuskoka.com
SUMMARY:Monthly Businessmen's League
DESCRIPTION:
URL:https://www.southmuskoka.com/event/monthly-businessmens-league/2020-03-02/
LOCATION:10 Golf Course Road\, Bracebridge\, ON\, P1L1M6\, Canada
END:VEVENT
BEGIN:VEVENT
DTSTART;TZID=UTC:20200203T110000
DTEND;TZID=UTC:20200203T150000
DTSTAMP:20260420T170911
CREATED:20190926T204610Z
LAST-MODIFIED:20190926T204641Z
UID:10000047-1580727600-1580742000@www.southmuskoka.com
SUMMARY:Monthly Businessmen's League
DESCRIPTION:
URL:https://www.southmuskoka.com/event/monthly-businessmens-league/2020-02-03/
LOCATION:10 Golf Course Road\, Bracebridge\, ON\, P1L1M6\, Canada
END:VEVENT
BEGIN:VEVENT
DTSTART;TZID=UTC:20200106T110000
DTEND;TZID=UTC:20200106T150000
DTSTAMP:20260420T170911
CREATED:20190926T204610Z
LAST-MODIFIED:20190926T204641Z
UID:10000046-1578308400-1578322800@www.southmuskoka.com
SUMMARY:Monthly Businessmen's League
DESCRIPTION:
URL:https://www.southmuskoka.com/event/monthly-businessmens-league/2020-01-06/
LOCATION:10 Golf Course Road\, Bracebridge\, ON\, P1L1M6\, Canada
END:VEVENT
BEGIN:VEVENT
DTSTART;TZID=UTC:20191202T110000
DTEND;TZID=UTC:20191202T150000
DTSTAMP:20260420T170911
CREATED:20190926T204610Z
LAST-MODIFIED:20190926T204641Z
UID:10000045-1575284400-1575298800@www.southmuskoka.com
SUMMARY:Monthly Businessmen's League
DESCRIPTION:
URL:https://www.southmuskoka.com/event/monthly-businessmens-league/2019-12-02/
LOCATION:10 Golf Course Road\, Bracebridge\, ON\, P1L1M6\, Canada
END:VEVENT
BEGIN:VEVENT
DTSTART;TZID=UTC:20191104T110000
DTEND;TZID=UTC:20191104T150000
DTSTAMP:20260420T170911
CREATED:20190926T204610Z
LAST-MODIFIED:20190926T204641Z
UID:10000044-1572865200-1572879600@www.southmuskoka.com
SUMMARY:Monthly Businessmen's League
DESCRIPTION:
URL:https://www.southmuskoka.com/event/monthly-businessmens-league/2019-11-04/
LOCATION:10 Golf Course Road\, Bracebridge\, ON\, P1L1M6\, Canada
END:VEVENT
END:VCALENDAR