BEGIN:VCALENDAR
VERSION:2.0
PRODID:-//South Muskoka Curling &amp; Golf Club - ECPv6.15.20//NONSGML v1.0//EN
CALSCALE:GREGORIAN
METHOD:PUBLISH
X-WR-CALNAME:South Muskoka Curling &amp; Golf Club
X-ORIGINAL-URL:https://www.southmuskoka.com
X-WR-CALDESC:Events for South Muskoka Curling &amp; Golf Club
REFRESH-INTERVAL;VALUE=DURATION:PT1H
X-Robots-Tag:noindex
X-PUBLISHED-TTL:PT1H
BEGIN:VTIMEZONE
TZID:UTC
BEGIN:STANDARD
TZOFFSETFROM:+0000
TZOFFSETTO:+0000
TZNAME:UTC
DTSTART:20180101T000000
END:STANDARD
END:VTIMEZONE
BEGIN:VEVENT
DTSTART;TZID=UTC:20200301T110000
DTEND;TZID=UTC:20200301T170000
DTSTAMP:20260420T190233
CREATED:20190926T204858Z
LAST-MODIFIED:20190926T204858Z
UID:10000054-1583060400-1583082000@www.southmuskoka.com
SUMMARY:Mixed Curling League
DESCRIPTION:
URL:https://www.southmuskoka.com/event/mixed-curling-league/2020-03-01/
LOCATION:10 Golf Course Road\, Bracebridge\, ON\, P1L1M6\, Canada
END:VEVENT
BEGIN:VEVENT
DTSTART;TZID=UTC:20200202T110000
DTEND;TZID=UTC:20200202T170000
DTSTAMP:20260420T190233
CREATED:20190926T204858Z
LAST-MODIFIED:20190926T204858Z
UID:10000053-1580641200-1580662800@www.southmuskoka.com
SUMMARY:Mixed Curling League
DESCRIPTION:
URL:https://www.southmuskoka.com/event/mixed-curling-league/2020-02-02/
LOCATION:10 Golf Course Road\, Bracebridge\, ON\, P1L1M6\, Canada
END:VEVENT
BEGIN:VEVENT
DTSTART;TZID=UTC:20200105T110000
DTEND;TZID=UTC:20200105T170000
DTSTAMP:20260420T190233
CREATED:20190926T204858Z
LAST-MODIFIED:20190926T204858Z
UID:10000052-1578222000-1578243600@www.southmuskoka.com
SUMMARY:Mixed Curling League
DESCRIPTION:
URL:https://www.southmuskoka.com/event/mixed-curling-league/2020-01-05/
LOCATION:10 Golf Course Road\, Bracebridge\, ON\, P1L1M6\, Canada
END:VEVENT
BEGIN:VEVENT
DTSTART;TZID=UTC:20191201T110000
DTEND;TZID=UTC:20191201T170000
DTSTAMP:20260420T190233
CREATED:20190926T204858Z
LAST-MODIFIED:20190926T204858Z
UID:10000051-1575198000-1575219600@www.southmuskoka.com
SUMMARY:Mixed Curling League
DESCRIPTION:
URL:https://www.southmuskoka.com/event/mixed-curling-league/2019-12-01/
LOCATION:10 Golf Course Road\, Bracebridge\, ON\, P1L1M6\, Canada
END:VEVENT
BEGIN:VEVENT
DTSTART;TZID=UTC:20191103T110000
DTEND;TZID=UTC:20191103T170000
DTSTAMP:20260420T190233
CREATED:20190926T204858Z
LAST-MODIFIED:20190926T204858Z
UID:10000050-1572778800-1572800400@www.southmuskoka.com
SUMMARY:Mixed Curling League
DESCRIPTION:
URL:https://www.southmuskoka.com/event/mixed-curling-league/2019-11-03/
LOCATION:10 Golf Course Road\, Bracebridge\, ON\, P1L1M6\, Canada
END:VEVENT
END:VCALENDAR