BEGIN:VCALENDAR
VERSION:2.0
PRODID:-//South Muskoka Curling &amp; Golf Club - ECPv6.15.20//NONSGML v1.0//EN
CALSCALE:GREGORIAN
METHOD:PUBLISH
X-ORIGINAL-URL:https://www.southmuskoka.com
X-WR-CALDESC:Events for South Muskoka Curling &amp; Golf Club
REFRESH-INTERVAL;VALUE=DURATION:PT1H
X-Robots-Tag:noindex
X-PUBLISHED-TTL:PT1H
BEGIN:VTIMEZONE
TZID:UTC
BEGIN:STANDARD
TZOFFSETFROM:+0000
TZOFFSETTO:+0000
TZNAME:UTC
DTSTART:20190101T000000
END:STANDARD
END:VTIMEZONE
BEGIN:VEVENT
DTSTART;TZID=UTC:20200922T133000
DTEND;TZID=UTC:20200922T180000
DTSTAMP:20260425T103642
CREATED:20191111T181023Z
LAST-MODIFIED:20200322T154002Z
UID:10000190-1600781400-1600797600@www.southmuskoka.com
SUMMARY:Ladies' Night - Sponsor: TBA
DESCRIPTION:
URL:https://www.southmuskoka.com/event/ladies-night-sponsor-tba-2020-09-01/2020-09-22/
LOCATION:10 Golf Course Road\, Bracebridge\, ON\, P1L1M6\, Canada
END:VEVENT
BEGIN:VEVENT
DTSTART;TZID=UTC:20200915T133000
DTEND;TZID=UTC:20200915T180000
DTSTAMP:20260425T103642
CREATED:20191111T181023Z
LAST-MODIFIED:20200322T154002Z
UID:10000189-1600176600-1600192800@www.southmuskoka.com
SUMMARY:Ladies' Night - Sponsor: TBA
DESCRIPTION:
URL:https://www.southmuskoka.com/event/ladies-night-sponsor-tba-2020-09-01/2020-09-15/
LOCATION:10 Golf Course Road\, Bracebridge\, ON\, P1L1M6\, Canada
END:VEVENT
BEGIN:VEVENT
DTSTART;TZID=UTC:20200908T133000
DTEND;TZID=UTC:20200908T180000
DTSTAMP:20260425T103642
CREATED:20191111T181023Z
LAST-MODIFIED:20200322T154002Z
UID:10000188-1599571800-1599588000@www.southmuskoka.com
SUMMARY:Ladies' Night - Sponsor: TBA
DESCRIPTION:
URL:https://www.southmuskoka.com/event/ladies-night-sponsor-tba-2020-09-01/2020-09-08/
LOCATION:10 Golf Course Road\, Bracebridge\, ON\, P1L1M6\, Canada
END:VEVENT
BEGIN:VEVENT
DTSTART;TZID=UTC:20200901T133000
DTEND;TZID=UTC:20200901T180000
DTSTAMP:20260425T103642
CREATED:20191111T181023Z
LAST-MODIFIED:20200322T154002Z
UID:10000187-1598967000-1598983200@www.southmuskoka.com
SUMMARY:Ladies' Night - Sponsor: TBA
DESCRIPTION:
URL:https://www.southmuskoka.com/event/ladies-night-sponsor-tba-2020-09-01/2020-09-01/
LOCATION:10 Golf Course Road\, Bracebridge\, ON\, P1L1M6\, Canada
END:VEVENT
BEGIN:VEVENT
DTSTART;TZID=UTC:20200825T133000
DTEND;TZID=UTC:20200825T180000
DTSTAMP:20260425T103642
CREATED:20191111T181023Z
LAST-MODIFIED:20200322T154017Z
UID:10000186-1598362200-1598378400@www.southmuskoka.com
SUMMARY:Ladies' Night - Sponsor: Strata Wealth
DESCRIPTION:
URL:https://www.southmuskoka.com/event/ladies-night-sponsor-tba-2020-08-25/
LOCATION:10 Golf Course Road\, Bracebridge\, ON\, P1L1M6\, Canada
END:VEVENT
BEGIN:VEVENT
DTSTART;TZID=UTC:20200818T133000
DTEND;TZID=UTC:20200818T180000
DTSTAMP:20260425T103642
CREATED:20191111T181023Z
LAST-MODIFIED:20200322T153932Z
UID:10000185-1597757400-1597773600@www.southmuskoka.com
SUMMARY:Ladies' Night - Sponsor: Fitzmaurice Bros
DESCRIPTION:
URL:https://www.southmuskoka.com/event/ladies-night-sponsor-tba-2020-08-18/
LOCATION:10 Golf Course Road\, Bracebridge\, ON\, P1L1M6\, Canada
END:VEVENT
BEGIN:VEVENT
DTSTART;TZID=UTC:20200811T133000
DTEND;TZID=UTC:20200811T180000
DTSTAMP:20260425T103642
CREATED:20191111T181023Z
LAST-MODIFIED:20200322T153849Z
UID:10000184-1597152600-1597168800@www.southmuskoka.com
SUMMARY:Ladies' Night - Sponsor: Tim Hortons
DESCRIPTION:
URL:https://www.southmuskoka.com/event/ladies-night-sponsor-tba-2020-08-11/
LOCATION:10 Golf Course Road\, Bracebridge\, ON\, P1L1M6\, Canada
END:VEVENT
BEGIN:VEVENT
DTSTART;TZID=UTC:20200804T133000
DTEND;TZID=UTC:20200804T180000
DTSTAMP:20260425T103642
CREATED:20191111T181023Z
LAST-MODIFIED:20200322T153718Z
UID:10000183-1596547800-1596564000@www.southmuskoka.com
SUMMARY:Ladies' Night - Sponsor: Sue Nelson
DESCRIPTION:
URL:https://www.southmuskoka.com/event/ladies-night-sponsor-tba-2020-08-04/
LOCATION:10 Golf Course Road\, Bracebridge\, ON\, P1L1M6\, Canada
END:VEVENT
BEGIN:VEVENT
DTSTART;TZID=UTC:20200728T133000
DTEND;TZID=UTC:20200728T180000
DTSTAMP:20260425T103642
CREATED:20191111T181023Z
LAST-MODIFIED:20200322T153800Z
UID:10000182-1595943000-1595959200@www.southmuskoka.com
SUMMARY:Ladies' Night - Sponsor: Bridgeway Insurance
DESCRIPTION:
URL:https://www.southmuskoka.com/event/ladies-night-sponsor-tba-2020-07-28/
LOCATION:10 Golf Course Road\, Bracebridge\, ON\, P1L1M6\, Canada
END:VEVENT
BEGIN:VEVENT
DTSTART;TZID=UTC:20200721T133000
DTEND;TZID=UTC:20200721T180000
DTSTAMP:20260425T103642
CREATED:20191111T181023Z
LAST-MODIFIED:20200322T153628Z
UID:10000181-1595338200-1595354400@www.southmuskoka.com
SUMMARY:Ladies' Night - Sponsor: Law Office of E. Jean Polak
DESCRIPTION:
URL:https://www.southmuskoka.com/event/ladies-night-sponsor-tba-2020-07-21/
LOCATION:10 Golf Course Road\, Bracebridge\, ON\, P1L1M6\, Canada
END:VEVENT
BEGIN:VEVENT
DTSTART;TZID=UTC:20200714T133000
DTEND;TZID=UTC:20200714T180000
DTSTAMP:20260425T103642
CREATED:20191111T181023Z
LAST-MODIFIED:20200322T153510Z
UID:10000180-1594733400-1594749600@www.southmuskoka.com
SUMMARY:Ladies' Night - Sponsor: Kwik Kopy
DESCRIPTION:
URL:https://www.southmuskoka.com/event/ladies-night-sponsor-tba-2020-07-14/
LOCATION:10 Golf Course Road\, Bracebridge\, ON\, P1L1M6\, Canada
END:VEVENT
BEGIN:VEVENT
DTSTART;TZID=UTC:20200707T133000
DTEND;TZID=UTC:20200707T180000
DTSTAMP:20260425T103642
CREATED:20191111T181023Z
LAST-MODIFIED:20200322T153430Z
UID:10000179-1594128600-1594144800@www.southmuskoka.com
SUMMARY:Ladies' Night - Sponsor: Molson Coors
DESCRIPTION:
URL:https://www.southmuskoka.com/event/ladies-night-sponsor-tba-2020-07-07/
LOCATION:10 Golf Course Road\, Bracebridge\, ON\, P1L1M6\, Canada
END:VEVENT
BEGIN:VEVENT
DTSTART;TZID=UTC:20200630T133000
DTEND;TZID=UTC:20200630T180000
DTSTAMP:20260425T103642
CREATED:20191111T181023Z
LAST-MODIFIED:20200322T153312Z
UID:10000178-1593523800-1593540000@www.southmuskoka.com
SUMMARY:Ladies' Night - Sponsor: BDO
DESCRIPTION:
URL:https://www.southmuskoka.com/event/ladies-night-sponsor-tba-2020-06-30/
LOCATION:10 Golf Course Road\, Bracebridge\, ON\, P1L1M6\, Canada
END:VEVENT
BEGIN:VEVENT
DTSTART;TZID=UTC:20200623T133000
DTEND;TZID=UTC:20200623T180000
DTSTAMP:20260425T103642
CREATED:20191111T181023Z
LAST-MODIFIED:20200322T153231Z
UID:10000177-1592919000-1592935200@www.southmuskoka.com
SUMMARY:Ladies' Night - Sponsor: Cavalcade Ford
DESCRIPTION:
URL:https://www.southmuskoka.com/event/ladies-night-sponsor-tba-2020-06-23/
LOCATION:10 Golf Course Road\, Bracebridge\, ON\, P1L1M6\, Canada
END:VEVENT
BEGIN:VEVENT
DTSTART;TZID=UTC:20200616T133000
DTEND;TZID=UTC:20200616T180000
DTSTAMP:20260425T103642
CREATED:20191111T181023Z
LAST-MODIFIED:20200322T153140Z
UID:10000175-1592314200-1592330400@www.southmuskoka.com
SUMMARY:Ladies' Night - Sponsor: DPB Moving & Delivery
DESCRIPTION:
URL:https://www.southmuskoka.com/event/ladies-night-sponsor-tba-2020-06-16/
LOCATION:10 Golf Course Road\, Bracebridge\, ON\, P1L1M6\, Canada
END:VEVENT
BEGIN:VEVENT
DTSTART;TZID=UTC:20200609T133000
DTEND;TZID=UTC:20200609T180000
DTSTAMP:20260425T103642
CREATED:20191111T181023Z
LAST-MODIFIED:20200322T153036Z
UID:10000172-1591709400-1591725600@www.southmuskoka.com
SUMMARY:Ladies' Night - Sponsor: Muskoka Paint & Decorating
DESCRIPTION:
URL:https://www.southmuskoka.com/event/ladies-night-sponsor-tba-2020-06-09/
LOCATION:10 Golf Course Road\, Bracebridge\, ON\, P1L1M6\, Canada
END:VEVENT
BEGIN:VEVENT
DTSTART;TZID=UTC:20200602T133000
DTEND;TZID=UTC:20200602T180000
DTSTAMP:20260425T103642
CREATED:20191111T181023Z
LAST-MODIFIED:20200322T152953Z
UID:10000170-1591104600-1591120800@www.southmuskoka.com
SUMMARY:Ladies' Night - Sponsor: Muskoka Brewery
DESCRIPTION:
URL:https://www.southmuskoka.com/event/ladies-night-sponsor-tba-2020-06-02/
LOCATION:10 Golf Course Road\, Bracebridge\, ON\, P1L1M6\, Canada
END:VEVENT
END:VCALENDAR