BEGIN:VCALENDAR
VERSION:2.0
PRODID:-//South Muskoka Curling &amp; Golf Club - ECPv6.15.20//NONSGML v1.0//EN
CALSCALE:GREGORIAN
METHOD:PUBLISH
X-WR-CALNAME:South Muskoka Curling &amp; Golf Club
X-ORIGINAL-URL:https://www.southmuskoka.com
X-WR-CALDESC:Events for South Muskoka Curling &amp; Golf Club
REFRESH-INTERVAL;VALUE=DURATION:PT1H
X-Robots-Tag:noindex
X-PUBLISHED-TTL:PT1H
BEGIN:VTIMEZONE
TZID:UTC
BEGIN:STANDARD
TZOFFSETFROM:+0000
TZOFFSETTO:+0000
TZNAME:UTC
DTSTART:20190101T000000
END:STANDARD
END:VTIMEZONE
BEGIN:VEVENT
DTSTART;TZID=UTC:20200322T080000
DTEND;TZID=UTC:20200516T170000
DTSTAMP:20260420T170911
CREATED:20200322T154146Z
LAST-MODIFIED:20200504T155559Z
UID:10000194-1584864000-1589648400@www.southmuskoka.com
SUMMARY:Closed
DESCRIPTION:
URL:https://www.southmuskoka.com/event/closed-2/
LOCATION:10 Golf Course Road\, Bracebridge\, ON\, P1L1M6\, Canada
END:VEVENT
END:VCALENDAR