BEGIN:VCALENDAR
VERSION:2.0
PRODID:-//South Muskoka Curling &amp; Golf Club - ECPv6.15.20//NONSGML v1.0//EN
CALSCALE:GREGORIAN
METHOD:PUBLISH
X-WR-CALNAME:South Muskoka Curling &amp; Golf Club
X-ORIGINAL-URL:https://www.southmuskoka.com
X-WR-CALDESC:Events for South Muskoka Curling &amp; Golf Club
REFRESH-INTERVAL;VALUE=DURATION:PT1H
X-Robots-Tag:noindex
X-PUBLISHED-TTL:PT1H
BEGIN:VTIMEZONE
TZID:UTC
BEGIN:STANDARD
TZOFFSETFROM:+0000
TZOFFSETTO:+0000
TZNAME:UTC
DTSTART:20190101T000000
END:STANDARD
END:VTIMEZONE
BEGIN:VEVENT
DTSTART;TZID=UTC:20200321T080000
DTEND;TZID=UTC:20200321T170000
DTSTAMP:20260420T100857
CREATED:20190915T182219Z
LAST-MODIFIED:20200808T181029Z
UID:10000029-1584777600-1584810000@www.southmuskoka.com
SUMMARY:Mixed Doubles Bonspiel
DESCRIPTION:Click the link for more information.
URL:https://www.southmuskoka.com/event/mixed-doubles-bonspiel-2/2020-03-21/
LOCATION:10 Golf Course Road\, Bracebridge\, ON\, P1L1M6\, Canada
END:VEVENT
END:VCALENDAR