BEGIN:VCALENDAR
VERSION:2.0
PRODID:-//South Muskoka Curling &amp; Golf Club - ECPv6.15.20//NONSGML v1.0//EN
CALSCALE:GREGORIAN
METHOD:PUBLISH
X-ORIGINAL-URL:https://www.southmuskoka.com
X-WR-CALDESC:Events for South Muskoka Curling &amp; Golf Club
REFRESH-INTERVAL;VALUE=DURATION:PT1H
X-Robots-Tag:noindex
X-PUBLISHED-TTL:PT1H
BEGIN:VTIMEZONE
TZID:UTC
BEGIN:STANDARD
TZOFFSETFROM:+0000
TZOFFSETTO:+0000
TZNAME:UTC
DTSTART:20200101T000000
END:STANDARD
END:VTIMEZONE
BEGIN:VEVENT
DTSTART;TZID=UTC:20210327T080000
DTEND;TZID=UTC:20210327T170000
DTSTAMP:20260425T222228
CREATED:20190915T182318Z
LAST-MODIFIED:20201110T164537Z
UID:10000037-1616832000-1616864400@www.southmuskoka.com
SUMMARY:Rocky Island Tire Mixed Bonspiel - Canceled
DESCRIPTION:Click the link for more information.
URL:https://www.southmuskoka.com/event/rocky-island-tire-mixed-bonspiel-2021-03-27/
LOCATION:10 Golf Course Road\, Bracebridge\, ON\, P1L1M6\, Canada
END:VEVENT
END:VCALENDAR