BEGIN:VCALENDAR
VERSION:2.0
PRODID:-//South Muskoka Curling &amp; Golf Club - ECPv6.15.20//NONSGML v1.0//EN
CALSCALE:GREGORIAN
METHOD:PUBLISH
X-ORIGINAL-URL:https://www.southmuskoka.com
X-WR-CALDESC:Events for South Muskoka Curling &amp; Golf Club
REFRESH-INTERVAL;VALUE=DURATION:PT1H
X-Robots-Tag:noindex
X-PUBLISHED-TTL:PT1H
BEGIN:VTIMEZONE
TZID:UTC
BEGIN:STANDARD
TZOFFSETFROM:+0000
TZOFFSETTO:+0000
TZNAME:UTC
DTSTART:20200101T000000
END:STANDARD
END:VTIMEZONE
BEGIN:VEVENT
DTSTART;TZID=UTC:20210109T080000
DTEND;TZID=UTC:20210109T170000
DTSTAMP:20260425T222249
CREATED:20190915T181808Z
LAST-MODIFIED:20201110T165057Z
UID:10000127-1610179200-1610211600@www.southmuskoka.com
SUMMARY:Men's Molson Bonspiel - Canceled
DESCRIPTION:Click the link for more information.
URL:https://www.southmuskoka.com/event/molson-mens-bonspiel-2021-01-09/
LOCATION:10 Golf Course Road\, Bracebridge\, ON\, P1L1M6\, Canada
END:VEVENT
END:VCALENDAR