BEGIN:VCALENDAR
VERSION:2.0
PRODID:-//South Muskoka Curling &amp; Golf Club - ECPv6.15.20//NONSGML v1.0//EN
CALSCALE:GREGORIAN
METHOD:PUBLISH
X-ORIGINAL-URL:https://www.southmuskoka.com
X-WR-CALDESC:Events for South Muskoka Curling &amp; Golf Club
REFRESH-INTERVAL;VALUE=DURATION:PT1H
X-Robots-Tag:noindex
X-PUBLISHED-TTL:PT1H
BEGIN:VTIMEZONE
TZID:UTC
BEGIN:STANDARD
TZOFFSETFROM:+0000
TZOFFSETTO:+0000
TZNAME:UTC
DTSTART:20200101T000000
END:STANDARD
END:VTIMEZONE
BEGIN:VEVENT
DTSTART;TZID=UTC:20210307T110000
DTEND;TZID=UTC:20210307T160000
DTSTAMP:20260425T084412
CREATED:20200808T173535Z
LAST-MODIFIED:20201110T165805Z
UID:10000200-1615114800-1615132800@www.southmuskoka.com
SUMMARY:Mixed Doubles
DESCRIPTION:
URL:https://www.southmuskoka.com/event/mixed-doubles/2021-03-07/
LOCATION:10 Golf Course Road\, Bracebridge\, ON\, P1L1M6\, Canada
END:VEVENT
BEGIN:VEVENT
DTSTART;TZID=UTC:20210207T110000
DTEND;TZID=UTC:20210207T160000
DTSTAMP:20260425T084412
CREATED:20200808T173535Z
LAST-MODIFIED:20201110T165805Z
UID:10000199-1612695600-1612713600@www.southmuskoka.com
SUMMARY:Mixed Doubles
DESCRIPTION:
URL:https://www.southmuskoka.com/event/mixed-doubles/2021-02-07/
LOCATION:10 Golf Course Road\, Bracebridge\, ON\, P1L1M6\, Canada
END:VEVENT
BEGIN:VEVENT
DTSTART;TZID=UTC:20210103T110000
DTEND;TZID=UTC:20210103T160000
DTSTAMP:20260425T084412
CREATED:20200808T173535Z
LAST-MODIFIED:20201110T165805Z
UID:10000198-1609671600-1609689600@www.southmuskoka.com
SUMMARY:Mixed Doubles
DESCRIPTION:
URL:https://www.southmuskoka.com/event/mixed-doubles/2021-01-03/
LOCATION:10 Golf Course Road\, Bracebridge\, ON\, P1L1M6\, Canada
END:VEVENT
END:VCALENDAR